BEGIN:VCALENDAR
VERSION:2.0
PRODID:-//Marijuana Retail Report - News and Information for Cannabis Retailers - ECPv6.8.1//NONSGML v1.0//EN
CALSCALE:GREGORIAN
METHOD:PUBLISH
X-WR-CALNAME:Marijuana Retail Report - News and Information for Cannabis Retailers
X-ORIGINAL-URL:https://marijuanaretailreport.com
X-WR-CALDESC:Events for Marijuana Retail Report - News and Information for Cannabis Retailers
REFRESH-INTERVAL;VALUE=DURATION:PT1H
X-Robots-Tag:noindex
X-PUBLISHED-TTL:PT1H
BEGIN:VTIMEZONE
TZID:America/Los_Angeles
BEGIN:DAYLIGHT
TZOFFSETFROM:-0800
TZOFFSETTO:-0700
TZNAME:PDT
DTSTART:20240310T100000
END:DAYLIGHT
BEGIN:STANDARD
TZOFFSETFROM:-0700
TZOFFSETTO:-0800
TZNAME:PST
DTSTART:20241103T090000
END:STANDARD
END:VTIMEZONE
BEGIN:VEVENT
DTSTART;TZID=America/Los_Angeles:20240507T110000
DTEND;TZID=America/Los_Angeles:20240509T180000
DTSTAMP:20260420T013436
CREATED:20240408T213822Z
LAST-MODIFIED:20240408T213822Z
UID:23689-1715079600-1715277600@marijuanaretailreport.com
SUMMARY:CHAMPS Atlantic City
DESCRIPTION:CHAMPS Atlantic City is THE premiere counterculture trade show event on the East Coast. Come visit a multitude of award-winning companies as they show you the latest and greatest in what they have to offer. Come see why both buyers and vendors alike call us one of the best events in the country! \nAs a reminder CHAMPS Trade Shows is a Business-to-Business Trade Show and is NOT open to the general public. 2 forms of business ID are required to register as a retail buyer. Pre-Registered Buyers are automatically entered in to win $2\,000 CASH! Two pre-registered buyers will win every day of the show. \nAtlantic City Convention Center\n1 Convention Boulevard\, Atlantic City\, NJ 08401\nMay 7th – May 9th\, 2024 / 11:00am-6:00pm Daily \nCHAMPS Atlantic City Day 1: Tuesday\, May 7th\nCHAMPS Atlantic City Day 2: Wednesday\, May 8th\nCHAMPS Atlantic City Day 3: Thursday\, May 9th \nFor more information\, to book your booth\, or to register FOR FREE as a retail buyer\, visit www.CHAMPSTradeShows.com
URL:https://marijuanaretailreport.com/event/champs-atlantic-city/
LOCATION:Atlantic City Convention Center\, 1 Convention Boulevard\, Atlantic City\, NJ\, 08401\, United States
CATEGORIES:B2B
ATTACH;FMTTYPE=image/jpeg:https://marijuanaretailreport.com/wp-content/uploads/2024/04/433847889_799530628879414_338250.jpg
END:VEVENT
END:VCALENDAR