BEGIN:VCALENDAR
VERSION:2.0
PRODID:-//Marijuana Retail Report - News and Information for Cannabis Retailers - ECPv6.8.1//NONSGML v1.0//EN
CALSCALE:GREGORIAN
METHOD:PUBLISH
X-WR-CALNAME:Marijuana Retail Report - News and Information for Cannabis Retailers
X-ORIGINAL-URL:https://marijuanaretailreport.com
X-WR-CALDESC:Events for Marijuana Retail Report - News and Information for Cannabis Retailers
REFRESH-INTERVAL;VALUE=DURATION:PT1H
X-Robots-Tag:noindex
X-PUBLISHED-TTL:PT1H
BEGIN:VTIMEZONE
TZID:America/Los_Angeles
BEGIN:DAYLIGHT
TZOFFSETFROM:-0800
TZOFFSETTO:-0700
TZNAME:PDT
DTSTART:20250309T100000
END:DAYLIGHT
BEGIN:STANDARD
TZOFFSETFROM:-0700
TZOFFSETTO:-0800
TZNAME:PST
DTSTART:20251102T090000
END:STANDARD
BEGIN:DAYLIGHT
TZOFFSETFROM:-0800
TZOFFSETTO:-0700
TZNAME:PDT
DTSTART:20260308T100000
END:DAYLIGHT
BEGIN:STANDARD
TZOFFSETFROM:-0700
TZOFFSETTO:-0800
TZNAME:PST
DTSTART:20261101T090000
END:STANDARD
END:VTIMEZONE
BEGIN:VEVENT
DTSTART;TZID=America/Los_Angeles:20250212T110000
DTEND;TZID=America/Los_Angeles:20250215T180000
DTSTAMP:20260421T051141
CREATED:20250128T000522Z
LAST-MODIFIED:20250128T000522Z
UID:24199-1739358000-1739642400@marijuanaretailreport.com
SUMMARY:CHAMPS Las Vegas Winter Show
DESCRIPTION:CHAMPS returns to the Las Vegas Convention Center for Winter Show 2025!\n\nThis will be our biggest show EVER so you don’t want to miss out. Join us at the Las Vegas Convention Center from Feb. 12th – 15th for what buyers and vendors call the greatest counterculture trade show in the world. Browse THOUSANDS of the top products in the industry and find trending high-margin items your customers are looking for!\n\n*CHAMPS IS BUSINESS TO BUSINESS ONLY AND NOT OPEN TO THE PUBLIC*\n\nGet Your BadgeNew Retail Buyer – https://bit.ly/CHAMPSBuyerRegistrationReturning Buyers – https://bit.ly/CHAMPSBuyerCheck\n\nBook Your Hotel (No Resort Fees!)Tuscany Suites starting at $89 a night – https://bit.ly/TuscanySuitesResorts World starting from $95 to $275 a night – https://bit.ly/ResortsWorldLV\n\nCHAMPS Las Vegas – Winter ShowFebruary 12th – 15th\, 202511:00am – 6:00pm DailyLas Vegas Convention Center3150 Paradise Rd Las Vegas\, NV 89109\n\nFor more information please visit www.CHAMPSTradeShows.com
URL:https://marijuanaretailreport.com/event/champs-las-vegas-winter-show/
LOCATION:Las Vegas Convention Center\, 3150 Paradise Rd\, Las Vegas\, NV\, 89109\, United States
CATEGORIES:B2B
ATTACH;FMTTYPE=image/jpeg:https://marijuanaretailreport.com/wp-content/uploads/2025/01/464934286_948605580638584_1464090273417139695_n.jpg
END:VEVENT
BEGIN:VEVENT
DTSTART;TZID=America/Los_Angeles:20250506T110000
DTEND;TZID=America/Los_Angeles:20250508T180000
DTSTAMP:20260421T051142
CREATED:20250226T231215Z
LAST-MODIFIED:20250226T231216Z
UID:24281-1746529200-1746727200@marijuanaretailreport.com
SUMMARY:CHAMPS Atlantic City
DESCRIPTION:CHAMPS returns to the Garden State!\n\nJoin us at the Atlantic City Convention Center from May 6th – 8th for our first regional show of the year! Browse THOUSANDS of the top products in the industry and find trending high margin items your customers are looking for!\n\n*CHAMPS IS BUSINESS TO BUSINESS ONLY AND NOT OPEN TO THE PUBLIC*\nGet Your Badge:New Retail Buyer – https://bit.ly/CHAMPSBuyerRegistrationReturning Buyers – https://bit.ly/CHAMPSBuyerCheck\n\nApply To Exhibit:General – https://bit.ly/ApplyToExhibitAC25Glass Artists – https://bit.ly/BookGlassArtistBooth\n\nBook Your Hotel:Sheraton $109 a night – https://bit.ly/SheratonAC25Tropicana $99 a night – https://bit.ly/TropicanaAC25\n\nPLEASE NOTE: CHAMPS will never contact you via third party to solicit hotel rooms. CHAMPS employees will only direct you to this page.\n\nCHAMPS Atlantic CityMay 6th – 8th\, 202511:00am – 6:00pm Daily (4:20pm last day)Atlantic City Convention Center1 Convention Blvd\, Atlantic City\, NJ 08401\n\nTo get registered as a retail buyer please visit www.CHAMPSTradeShows.com
URL:https://marijuanaretailreport.com/event/champs-atlantic-city-2/
LOCATION:Atlantic City Convention Center\, 1 Convention Boulevard\, Atlantic City\, NJ\, 08401\, United States
CATEGORIES:B2B
ATTACH;FMTTYPE=image/png:https://marijuanaretailreport.com/wp-content/uploads/2025/02/CTS_FBHeader_1640x720_AC25_v5.png
END:VEVENT
BEGIN:VEVENT
DTSTART;TZID=America/Los_Angeles:20260317T110000
DTEND;TZID=America/Los_Angeles:20260319T180000
DTSTAMP:20260421T051142
CREATED:20260312T213549Z
LAST-MODIFIED:20260312T213549Z
UID:24963-1773745200-1773943200@marijuanaretailreport.com
SUMMARY:CHAMPS Atlantic City
DESCRIPTION:*CHAMPS IS BUSINESS TO BUSINESS ONLY AND NOT OPEN TO THE PUBLIC*\n\nCHAMPS returns to the Garden State!\n\nJoin us at the Atlantic City Convention Center from March 17th – 19th for our second regional show of the year! Browse THOUSANDS of the top products in the industry and find trending high margin items your customers are looking for!\n\nGet Your Badge:New Retail Buyer – https://bit.ly/CHAMPSBuyerRegistrationReturning Buyers – https://bit.ly/CHAMPSBuyerCheck\n\nApply To Exhibit:General – https://champstradeshows.com/exhibitor-application-atlantic-city-2026Glass Artists – https://champstradeshows.com/glass-games-apply-to-participate\n\nBook Your Hotel (From March 13th to 20th\, 2026):Caesars Atlantic City$79 per night (+ Resort Fee $27.99 & Taxes)Deal ends March 7thBook Now: https://book.passkey.com/go/sc03ch6\n\nTropicana Atlantic CityDeal ends March 7th$59 per night (+ Resort Fee $27.99 & Taxes)Book Now: https://book.passkey.com/go/sc03ch6\n\nSheraton Atlantic City Convention Center HotelDeal ends March 9th$110 per night (+ Taxes)Book Now: https://bit.ly/BookTheSheratonAC26\n\nPLEASE NOTE: CHAMPS will never contact you via third party to solicit hotel rooms. CHAMPS employees will only direct you to www.CHAMPSTradeShows.com/Hotels.\n\nCHAMPS Atlantic CityMarch 17th – 19th\, 202611:00am – 6:00pm Daily (4:20pm last day)Atlantic City Convention Center1 Convention Blvd\, Atlantic City\, NJ 08401\n\nTo get registered as a retail buyer please visit www.CHAMPSTradeShows.com
URL:https://marijuanaretailreport.com/event/champs-atlantic-city-3/
LOCATION:Atlantic City Convention Center\, 1 Convention Boulevard\, Atlantic City\, NJ\, 08401\, United States
CATEGORIES:B2B
ATTACH;FMTTYPE=image/jpeg:https://marijuanaretailreport.com/wp-content/uploads/2026/03/626817117_1307504978081974_8061170594724687213_n.jpg
END:VEVENT
END:VCALENDAR